BEGIN:VCALENDAR
VERSION:2.0
PRODID:-//CHRYSALYS - ECPv6.15.11//NONSGML v1.0//EN
CALSCALE:GREGORIAN
METHOD:PUBLISH
X-WR-CALNAME:CHRYSALYS
X-ORIGINAL-URL:https://chrysa-lys.com
X-WR-CALDESC:Évènements pour CHRYSALYS
REFRESH-INTERVAL;VALUE=DURATION:PT1H
X-Robots-Tag:noindex
X-PUBLISHED-TTL:PT1H
BEGIN:VTIMEZONE
TZID:Europe/Paris
BEGIN:DAYLIGHT
TZOFFSETFROM:+0100
TZOFFSETTO:+0200
TZNAME:CEST
DTSTART:20250330T010000
END:DAYLIGHT
BEGIN:STANDARD
TZOFFSETFROM:+0200
TZOFFSETTO:+0100
TZNAME:CET
DTSTART:20251026T010000
END:STANDARD
BEGIN:DAYLIGHT
TZOFFSETFROM:+0100
TZOFFSETTO:+0200
TZNAME:CEST
DTSTART:20260329T010000
END:DAYLIGHT
BEGIN:STANDARD
TZOFFSETFROM:+0200
TZOFFSETTO:+0100
TZNAME:CET
DTSTART:20261025T010000
END:STANDARD
BEGIN:DAYLIGHT
TZOFFSETFROM:+0100
TZOFFSETTO:+0200
TZNAME:CEST
DTSTART:20270328T010000
END:DAYLIGHT
BEGIN:STANDARD
TZOFFSETFROM:+0200
TZOFFSETTO:+0100
TZNAME:CET
DTSTART:20271031T010000
END:STANDARD
BEGIN:DAYLIGHT
TZOFFSETFROM:+0100
TZOFFSETTO:+0200
TZNAME:CEST
DTSTART:20280326T010000
END:DAYLIGHT
BEGIN:STANDARD
TZOFFSETFROM:+0200
TZOFFSETTO:+0100
TZNAME:CET
DTSTART:20281029T010000
END:STANDARD
END:VTIMEZONE
BEGIN:VEVENT
DTSTART;VALUE=DATE:20260213
DTEND;VALUE=DATE:20260620
DTSTAMP:20260421T105408
CREATED:20260211T141041Z
LAST-MODIFIED:20260211T141153Z
UID:53404-1770940800-1781913599@chrysa-lys.com
SUMMARY:Supervision Praticien en Coaching Génératif - Séance de groupe de 2 heures - En ligne
DESCRIPTION:Améliorer\, développer ses compétences et la fluidité de ses accompagnements. \n\n\n\n\n\n\n\nLes supervisions sont cruciales pour le développement continu et le soutien des Coachs certifiés en Coaching Génératif.\n\n\n\n\n\n\nNotre philosophie : Ecoute bienveillante\, soutien\, curiosité\, accueil\, non-jugement\, confiance et confidentialité. \n  \n\n\n\nNous offrons un cadre structuré pour la réflexion\, l’apprentissage\, le développement et l’amélioration des compétences\, tout en assurant que les pratiques de Coaching Génératif restent éthiques et efficaces. \nEn participant régulièrement à ces sessions de supervision\, les Coachs peuvent maintenir un niveau élevé de bien-être personnel et de satisfaction dans leurs accompagnements. \nProchaines dates (3 participants minimum) : \n\n13/02/2026 de 13h30 à 15h30\n17/04/2026 de 13h30 à 15h30\n19/06/2026 de 13h30 à 15h30\n\nTarif : 150€ TTC/séance \nPour participer et choisir mes séances – > Je m’inscris en ligne \nIl est possible de s’inscrire à des séances en individuel (A préciser sur le formulaire d’inscription dans séance individuelle)
URL:https://chrysa-lys.com/prochaine-session/supervision-praticien-en-coaching-generatif-seance-de-groupe-de-2-heures-en-ligne/
LOCATION:En virtuel
CATEGORIES:Formation
ATTACH;FMTTYPE=image/png:https://chrysa-lys.com/wp-content/uploads/2024/07/header-bandeau-7.png
END:VEVENT
BEGIN:VEVENT
DTSTART;VALUE=DATE:20260305
DTEND;VALUE=DATE:20261004
DTSTAMP:20260421T105408
CREATED:20250905T152533Z
LAST-MODIFIED:20251016T151440Z
UID:52702-1772668800-1791071999@chrysa-lys.com
SUMMARY:Formation Praticien en PNL Générative 18 jours - A partir du 05 mars 2026 avec Nathalie LEBAS Master Trainer en PNL affiliée à NLP University Santa Cruz (USA)
DESCRIPTION:La PNL Générative a développé un ensemble d’outils\, de techniques\, de stratégies et de modèles puissants qui sont utilisés pour définir et atteindre des états désirés et identifier les ressources dans une grande variété de domaines tels que les affaires\, le leadership\, la créativité\, l’éducation et la santé pour n’en nommer que quelques-uns. \nLes dates de la formation : \n\n\n\nM1 : du 05 au 07/03/2026\nM2 : du 08 au 10/04/2026\nM3 : du 19 au 21/05/2026\nM4 : du 12 au 13/06/2026\nM5 : du 08 au 10/07/2026\nM6 : du 10 au 11/09/2026\nM7 + journée d’évaluation : du 02 au 03/10/2026\n\n\n\nPour découvrir la formation en détail > PNL Générative \nPour vous inscrire en ligne > Je m’inscris en ligne \n 
URL:https://chrysa-lys.com/prochaine-session/certification-praticien-en-pnl-generative-18-jours-a-partir-du-05-mars-2026/
LOCATION:Paris\, France
CATEGORIES:Formation
ATTACH;FMTTYPE=image/png:https://chrysa-lys.com/wp-content/uploads/2024/06/header-bandeau-41.png
END:VEVENT
BEGIN:VEVENT
DTSTART;VALUE=DATE:20260313
DTEND;VALUE=DATE:20260704
DTSTAMP:20260421T105408
CREATED:20260211T134544Z
LAST-MODIFIED:20260211T134544Z
UID:53396-1773360000-1783123199@chrysa-lys.com
SUMMARY:Supervision Praticien en PNL - Séance de groupe de 2 heures - En ligne
DESCRIPTION:Améliorer\, développer ses compétences et la fluidité de ses accompagnements. \n  \nLes supervisions sont cruciales pour le développement continu et le soutien des Praticiens\, Master ou Formateurs en PNL. \nNotre philosophie : Ecoute bienveillante\, soutien\, curiosité\, accueil\, non-jugement\, confiance et confidentialité. \nApprofondir son travail par la pratique; \nNous offrons un cadre structuré pour la réflexion\, l’apprentissage\, le développement et l’amélioration des compétences\, tout en assurant que les pratiques de PNL restent éthiques et efficaces.\n\nEn participant régulièrement à ces sessions de supervision\, les Praticiens en PNL Générative peuvent maintenir un niveau élevé de bien-être personnel et de satisfaction dans leurs accompagnements.\n  \nProchaines dates (3 participants minimum) : \n\n13/03/2026 de 13h30 à 15h30\n15/05/2026 de 13h30 à 15h30\n03/07/2026 de 13h30 à 15h30\n\nTarif : 150€ TTC/séance \nPour participer et choisir mes séances – > Je m’inscris en ligne \nIl est possible de s’inscrire à des séances en individuel (A préciser sur le formulaire d’inscription dans séance individuelle)
URL:https://chrysa-lys.com/prochaine-session/supervision-praticien-en-pnl-seance-de-groupe-de-2-heures-en-ligne/
LOCATION:En virtuel
CATEGORIES:Formation
ATTACH;FMTTYPE=image/png:https://chrysa-lys.com/wp-content/uploads/2024/08/header-bandeau-50.png
END:VEVENT
BEGIN:VEVENT
DTSTART;VALUE=DATE:20260313
DTEND;VALUE=DATE:20260704
DTSTAMP:20260421T105408
CREATED:20260211T135355Z
LAST-MODIFIED:20260211T140041Z
UID:53399-1773360000-1783123199@chrysa-lys.com
SUMMARY:Supervision Coachs de Santé - Séance de groupe de 2 heures - En ligne
DESCRIPTION:La supervision : l’espace où le Coach ou le Praticien continuent de grandir \nOn devient Coach\, Praticien en PNL ou Coach de Santé par une formation.\nOn devient un bon Coach ou un bon Praticien… par la supervision. \nLa supervision n’est pas un lieu où l’on « corrige » une pratique.\nC’est un espace de maturation\, de conscience et d’alignement. \nQuand on accompagne l’autre dans des espaces sensibles : santé\, changement\, identité\, transitions de vie\, alors notre posture devient l’outil principal.\nEt cet outil\, nous sommes appelés à en prendre soin. \nSe faire superviser\, c’est : \n\n\ndéposer ce qui se joue dans la relation d’accompagnement \n\n\néclairer ses angles morts avec bienveillance \n\n\naffiner son éthique et sa responsabilité \n\n\ncontinuer à apprendre de soi\, de l’autre\, du vivant \n\n\nChez CHRYSALYS\, la supervision s’inscrit dans une approche Générative :\non ne cherche pas seulement à résoudre une difficulté\, on ouvre un espace où quelque chose de plus grand peut émerger pour le Coach\, pour sa pratique\, pour ses clients. \nLa supervision devient alors un acte de leadership intérieur.\nUn choix conscient de croissance continue. \nProchaines dates (3 participants minimum) : \n\n13/03/2026 de 10h30 à 12h30\n15/05/2026 de 10h30 à 12h30\n03/07/2026 de 10h30 à 12h30\n\nTarif : 150€ TTC/séance \nPour participer et choisir mes séances – > Je m’inscris en ligne \nIl est possible de s’inscrire à des séances en individuel (A préciser sur le formulaire d’inscription dans séance individuelle)
URL:https://chrysa-lys.com/prochaine-session/supervision-coachs-de-sante-seance-de-groupe-de-2-heures-en-ligne/
LOCATION:En virtuel
CATEGORIES:Formation
ATTACH;FMTTYPE=image/png:https://chrysa-lys.com/wp-content/uploads/2024/07/header-bandeau-13.png
END:VEVENT
BEGIN:VEVENT
DTSTART;VALUE=DATE:20260313
DTEND;VALUE=DATE:20260523
DTSTAMP:20260421T105408
CREATED:20260211T113301Z
LAST-MODIFIED:20260211T134650Z
UID:53392-1773360000-1779494399@chrysa-lys.com
SUMMARY:Un temps pour vous ! Bulle de ressourcement - 6 séances de 1h00
DESCRIPTION:Et si vous vous offriez un espace régulier pour ralentir\, respirer et revenir à l’essentiel ? \nUn espace pour calmer le mental\, revenir au corps et nourrir votre énergie intérieure. \nNous vous proposons un cycle de 6 séances d’1h en virtuel\, pour cultiver un état interne plus serein\, plus vivant\, plus aligné\, une pause consciente pour ressentir et retrouver plus de clarté et de présence. \n✨ Un rendez-vous pour : \n\nApaiser votre mental\nRevenir dans votre corps et vos sensations\nAccueillir vos émotions\nActiver vos ressources\nPoser vos intentions clairement\nNourrir la gratitude\n\n\n\n\n\n\n📅 Dates & horaires\n13 • 20 • 27 mars 2026\n8 • 15 • 22 mai 2026\n🕘 de 9h00 à 10h00 – en visio (le lien Zoom vous sera communiqué lors de votre inscription) \nTarifs : \n15 € la séance\n40 € 3 séances\n75 € le cycle complet (6 séances) \n\nPour vous inscrire et choisir vos séances  > Je m’inscris en ligne \n\n 
URL:https://chrysa-lys.com/prochaine-session/un-temps-pour-vous-bulle-de-ressourcement-en-ligne/
LOCATION:En virtuel
CATEGORIES:Formation
ATTACH;FMTTYPE=image/png:https://chrysa-lys.com/wp-content/uploads/2024/06/Design-sans-titre-89.png
END:VEVENT
BEGIN:VEVENT
DTSTART;VALUE=DATE:20260504
DTEND;VALUE=DATE:20260508
DTSTAMP:20260421T105408
CREATED:20250221T113751Z
LAST-MODIFIED:20250915T140439Z
UID:52403-1777860000-1778119199@chrysa-lys.com
SUMMARY:Le Voyage du Héros - Du 4 au 7 mai 2026 avec Stephen GILLIGAN
DESCRIPTION:Le voyage du héros se concentre sur la façon dont la Transe Générative soutient la vie en tant que voyage d’un grand héros / héroïne. \nVenez découvrir votre voyage. Cette formation est animée par Stephen GILLIGAN et traduite par une interprète professionnelle. \nPour découvrir la formation en détail > Le Voyage du Héros \nPour vous inscrire en ligne > Je m’inscris en ligne \n 
URL:https://chrysa-lys.com/prochaine-session/le-voyage-du-heros-du-4-au-7-mai-2026/
LOCATION:En virtuel
CATEGORIES:Formation
ATTACH;FMTTYPE=image/png:https://chrysa-lys.com/wp-content/uploads/2024/08/header-bandeau-56.png
END:VEVENT
BEGIN:VEVENT
DTSTART;TZID=Europe/Paris:20260511T183000
DTEND;TZID=Europe/Paris:20260511T200000
DTSTAMP:20260421T105408
CREATED:20260202T092835Z
LAST-MODIFIED:20260202T092835Z
UID:53302-1778524200-1778529600@chrysa-lys.com
SUMMARY:Conférence Gratuite Le métier de Coach de santé - Le 11 mai 2026 avec Jean-Luc MONSEMPES
DESCRIPTION:Une spécialisation pour les coachs\, thérapeutes\, professionnels de santé \nVous êtes coach\, thérapeute\, professionnel de la santé ou du bien-être ? Vous voulez élargir vos compétences\, enrichir\, consolider votre pratique dans le domaine de la santé globale ? Le coaching de santé vise\, en complément du suivi médical\, à faciliter les changements d’habitudes de vie d’une personne\, afin de développer son niveau de santé\, de bien-être et sa qualité de vie. \nDans une session virtuelle de 1h30\, le Dr Jean Luc Monsempès vous présentera le métier de Coach de Santé : les nouveaux besoins expliquant l’émergence du métier de coach de santé\, le champ d’intervention non médical du coach de santé\, les différences et complémentarités entre pratiques médicales et coaching de santé\, les compétences spécifiques du coach de santé\, les preuves d’efficacité du coaching de santé\, et les perspectives de développement de la profession. \nPour participer à cette conférence\, une pré-inscription est demandée > Je m’inscris en ligne \n 
URL:https://chrysa-lys.com/prochaine-session/conference-gratuite-le-metier-de-coach-de-sante-le-11-mai-2026-avec-jean-luc-monsempes/
LOCATION:En virtuel
CATEGORIES:Formation
ATTACH;FMTTYPE=image/png:https://chrysa-lys.com/wp-content/uploads/2024/06/header-bandeau-81.png
END:VEVENT
BEGIN:VEVENT
DTSTART;TZID=Europe/Paris:20260527T100000
DTEND;TZID=Europe/Paris:20260527T170000
DTSTAMP:20260421T105408
CREATED:20250614T171409Z
LAST-MODIFIED:20260219T142835Z
UID:52584-1779876000-1779901200@chrysa-lys.com
SUMMARY:Eveillez votre intelligence somatique - Le 27 mai 2026 avec Nathalie LEBAS
DESCRIPTION:SAVE THE DATE !\nL’intelligence somatique est déjà en vous ! \nReconnectez-vous à votre corps comme à un guide vivant\, sensible et sage.\nCe stage est une invitation à plonger dans l’écoute subtile de votre mouvement intérieur\, à travers une danse libre\, intuitive et profondément régénérante. \nLa « Somatic Dance » est une pratique de transformation par le mouvement. Elle permet d’explorer votre rapport au corps\, à l’émotion\, à l’espace\, à l’instant. Elle ouvre un chemin vers plus d’authenticité\, de liberté et d’alignement intérieur. Cette formation vous aidera à l’éveiller\, à l’amplifier\, à la laisser s’exprimer pleinement. Elle vous reconnectera à votre puissance organique\, à votre intuition\, à votre vérité incarnée. \nJe m’inscris -> https://forms.gle/AUzP64qnidLZ4dZz6
URL:https://chrysa-lys.com/prochaine-session/eveillez-votre-intelligence-somatique-le-22-novembre-2025/
LOCATION:Paris\, France
CATEGORIES:Formation
ATTACH;FMTTYPE=image/png:https://chrysa-lys.com/wp-content/uploads/2024/06/Design-sans-titre-89.png
END:VEVENT
BEGIN:VEVENT
DTSTART;VALUE=DATE:20260528
DTEND;VALUE=DATE:20270124
DTSTAMP:20260421T105408
CREATED:20250221T121534Z
LAST-MODIFIED:20251211T171145Z
UID:52413-1779926400-1800748799@chrysa-lys.com
SUMMARY:Formation Master Praticien en PNL Générative 21 jours - A partir du 28 mai 2026 avec Nathalie LEBAS Master Trainer en PNL affiliée à NLP University Santa Cruz (USA)
DESCRIPTION:Le programme de certification de Maître Praticien en PNL Générative est conçu pour fournir aux praticiens en PNL Générative les compétences conceptuelles\, \nLes dates de la formation : \n\n\nModule 1 – du 28 au 30 mai 2026\nModule 2 – du 24 au 26 juin 2026\nModule 3 – du 17 au 19 septembre 2026\nModule 4 – du 21 au 23 octobre 2026\nModule 5 – du 26 au 28 novembre 2026\nModule 6 – du 16 au 18 décembre 2026\nModule 7 – du 21 au 23 janvier 2026 (avec journée d’évaluation le dernier jour)\n\nPour découvrir la formation en détail -> Master Praticien en PNL Générative \n\nPour vous inscrire en ligne -> Je m’inscris en ligne \n 
URL:https://chrysa-lys.com/prochaine-session/certification-master-praticien-en-pnl-generative-21-jours-a-partir-du-18-septembre-2025/
LOCATION:Paris\, France
CATEGORIES:Formation
ATTACH;FMTTYPE=image/png:https://chrysa-lys.com/wp-content/uploads/2024/07/header-bandeau-46.png
END:VEVENT
BEGIN:VEVENT
DTSTART;TZID=Europe/Paris:20260609T183000
DTEND;TZID=Europe/Paris:20260609T200000
DTSTAMP:20260421T105408
CREATED:20260202T092956Z
LAST-MODIFIED:20260202T092956Z
UID:53304-1781029800-1781035200@chrysa-lys.com
SUMMARY:Conférence Gratuite Le métier de Coach de santé - Le 09 juin 2026 avec Jean-Luc MONSEMPES
DESCRIPTION:Une spécialisation pour les coachs\, thérapeutes\, professionnels de santé \nVous êtes coach\, thérapeute\, professionnel de la santé ou du bien-être ? Vous voulez élargir vos compétences\, enrichir\, consolider votre pratique dans le domaine de la santé globale ? Le coaching de santé vise\, en complément du suivi médical\, à faciliter les changements d’habitudes de vie d’une personne\, afin de développer son niveau de santé\, de bien-être et sa qualité de vie. \nDans une session virtuelle de 1h30\, le Dr Jean Luc Monsempès vous présentera le métier de Coach de Santé : les nouveaux besoins expliquant l’émergence du métier de coach de santé\, le champ d’intervention non médical du coach de santé\, les différences et complémentarités entre pratiques médicales et coaching de santé\, les compétences spécifiques du coach de santé\, les preuves d’efficacité du coaching de santé\, et les perspectives de développement de la profession. \nPour participer à cette conférence\, une pré-inscription est demandée > Je m’inscris en ligne \n 
URL:https://chrysa-lys.com/prochaine-session/conference-gratuite-le-metier-de-coach-de-sante-le-09-juin-2026-avec-jean-luc-monsempes/
LOCATION:En virtuel
CATEGORIES:Formation
ATTACH;FMTTYPE=image/png:https://chrysa-lys.com/wp-content/uploads/2024/06/header-bandeau-81.png
END:VEVENT
BEGIN:VEVENT
DTSTART;VALUE=DATE:20260928
DTEND;VALUE=DATE:20270319
DTSTAMP:20260421T105408
CREATED:20251009T081821Z
LAST-MODIFIED:20260408T085504Z
UID:52953-1790553600-1805414399@chrysa-lys.com
SUMMARY:Formation Coaching Génératif 15 jours - A partir du 28 septembre 2026
DESCRIPTION:Le Coaching Génératif est une forme d’accompagnement co-créé par Robert DILTS et Stephen GILLIGAN. Inspirée de la PNL\, de la systémique\, de l’hypnose Ericksonienne et de l’Aïkido\, cette pratique a pour particularité de prendre en compte nos intelligences multiples. \nLes dates de la formation : \n\n\nM1 Du 28/09 au 30/09/2026\nM2 Du 30/11 au 03/12/2026\nM3 Du 11 au 14/01/2027\nM4 Du 15 au 18/03/2027\n\n\nPour découvrir la formation en détail > Coaching Génératif \nPour vous inscrire en ligne > Je m’inscris en ligne \n 
URL:https://chrysa-lys.com/prochaine-session/certification-en-coaching-generatif-15-jours-a-partir-du-01-avril-2026/
CATEGORIES:Formation
ATTACH;FMTTYPE=image/png:https://chrysa-lys.com/wp-content/uploads/2024/06/Design-sans-titre-74-1.png
END:VEVENT
BEGIN:VEVENT
DTSTART;VALUE=DATE:20261118
DTEND;VALUE=DATE:20261123
DTSTAMP:20260421T105408
CREATED:20260120T135303Z
LAST-MODIFIED:20260120T135303Z
UID:53272-1794963600-1795309199@chrysa-lys.com
SUMMARY:Supervision de Praticien en Transe Générative - Du 18 au 21 novembre 2026 avec Stephen GILLIGAN
DESCRIPTION:Ces supervisions sont légendaires dans leur capacité à nourrir et à éveiller votre âme à l’action. Cet atelier de 4 jours de supervision offre une occasion unique d’explorer le travail de Stephen Gilligan dans un cadre intime. \nPour découvrir la formation en détail > Supervision de Praticien en Transe Générative \nPour vous inscrire en ligne > Je m’inscris en ligne \n 
URL:https://chrysa-lys.com/prochaine-session/supervision-de-praticien-en-transe-generative-du-18-au-21-novembre-2026-avec-stephen-gilligan/
LOCATION:Abbaye de Royaumont (95)
CATEGORIES:Formation
ATTACH;FMTTYPE=image/png:https://chrysa-lys.com/wp-content/uploads/2024/06/Design-sans-titre-84.png
END:VEVENT
BEGIN:VEVENT
DTSTART;VALUE=DATE:20270202
DTEND;VALUE=DATE:20270924
DTSTAMP:20260421T105408
CREATED:20250908T132901Z
LAST-MODIFIED:20260127T102930Z
UID:52711-1801526400-1821743999@chrysa-lys.com
SUMMARY:Formation Coaching de Santé 15 jours - A partir du 02 février 2027 avec Robert DILTS\, Suzi SMITH\, Tim HALLBOM\, Jean-Luc MONSEMPES et Nathalie LEBAS
DESCRIPTION:Vous êtes Coach\, thérapeute\, professionnel de santé ou accompagnant dans les domaines du bien-être et vous souhaitez développer vos compétences\, enrichir votre pratique quotidienne et découvrir ce nouveau métier de Coach de Santé ? \nAu travers des dernières études scientifiques que le Dr Monsempès a étudié\, cela vous permettra de faire évoluer vos approches\, vos connaissances et votre expertise dans ce domaine. Il s’agit d’un métier en pleine émergence\, d’une approche holistique\, novatrice et véritablement centrée sur la personne. \nLes dates de la formation : \n\n\nModule 1 avec Jean Luc Monsempès : 02\, 03 et 04 février 2027 (3 jours) \nSession 1 en Virtuel : 25 mars 2027 animée par Nathalie Lebas (1 jour) \nModule 2 avec Suzi Smith – 27\, 28 et 29 avril 2027 (3 jours) \nSession 2 en Virtuel : 18 mai 2027 animée par Nathalie Lebas (1 jour) \nModule 3 avec Tim Hallbom – 1\, 2 et 3 juin 2027 (3 jours) \nSession 3 en Virtuel : 01 juillet 2027 animée par Jean-Luc Monsempès (1 jour) \nModule 4 avec Robert Dilts – 21\, 22 et 23 septembre 2027 (3 jours) \n\n  \nPour découvrir la formation en détail > Coaching de Santé \nPour vous inscrire  > Je m’inscris en ligne \n 
URL:https://chrysa-lys.com/prochaine-session/certification-coaching-de-sante-15-jours-a-partir-du-03-fevrier-2026/
LOCATION:A Paris ou en virtuel
CATEGORIES:Formation
ATTACH;FMTTYPE=image/png:https://chrysa-lys.com/wp-content/uploads/2024/06/Design-sans-titre-87.png
END:VEVENT
END:VCALENDAR